BEGIN:VCALENDAR
PRODID:-//eluceo/ical//2.0/EN
VERSION:2.0
CALSCALE:GREGORIAN
BEGIN:VEVENT
UID:event-715
DTSTAMP:20260425T231532Z
SUMMARY:Active Member's Day
DESCRIPTION:  Ahoy mates! The best activity of this semester is coming! Af
 ter the yearly AMD\, it is now time for the first AMD in the Fall season!
  Expect an exciting day filled with adventurous activities\, you do not w
 ant to miss this! This day is filled with thrilling activities\, an amazin
 g dinner and a great theme – all for you active members. We hope you ar
 e just as excited as us\, so subscribe now\, as we only have limited spots
  available!  Location: Tilburg Central Station Date: 23/10/2024 Time: 13:
 00 – 23:00 Fee: 10 euros
DTSTART:20241023T110000Z
DTEND:20241023T210000Z
END:VEVENT
BEGIN:VTIMEZONE
TZID:UTC
BEGIN:STANDARD
DTSTART:20241023T110000
TZNAME:UTC
TZOFFSETTO:+0000
TZOFFSETFROM:+0000
END:STANDARD
END:VTIMEZONE
END:VCALENDAR
