BEGIN:VCALENDAR
PRODID:-//eluceo/ical//2.0/EN
VERSION:2.0
CALSCALE:GREGORIAN
BEGIN:VEVENT
UID:event-184
DTSTAMP:20260425T133627Z
SUMMARY:DoMiBo 1
DESCRIPTION:DoMiBo 1 On October 5th it is time for the promotion committee 
 to present its first of many legendary DoMiBo’s of this year. The 23/24 
 season will start off with a bang\, with the theme being “Oud Zuid”. C
 ome join us and put on your favorite posh outfits\, catch up on all the su
 mmer adventures of your friends\, and\, most importantly\, enjoy many glas
 ses of rosé!
DTSTART:20231005T150000Z
DTEND:20231005T200000Z
END:VEVENT
BEGIN:VTIMEZONE
TZID:UTC
BEGIN:STANDARD
DTSTART:20231005T150000
TZNAME:UTC
TZOFFSETTO:+0000
TZOFFSETFROM:+0000
END:STANDARD
END:VTIMEZONE
END:VCALENDAR
