BEGIN:VCALENDAR
PRODID:-//eluceo/ical//2.0/EN
VERSION:2.0
CALSCALE:GREGORIAN
BEGIN:VEVENT
UID:event-146
DTSTAMP:20260424T114237Z
SUMMARY:Sports Event 1: Arcade!
DESCRIPTION:Sports Event 1: Arcade! Join us for the first Sports Event of t
 he academic year\, Arcade! Enjoy a fun evening of playing in our air hocke
 y tournament\, while also enjoying all the other games the arcade has in p
 lace! The event will start at 21.00h\, and will last untill ~23.00h. The l
 ocation of the arcade will be disclosed to you soonly! The price for joini
 ng this event will be € (disclosed to you soonly\, probably €5\,00 We 
 hope to see you there!
DTSTART:20230927T190000Z
DTEND:20230927T210000Z
END:VEVENT
BEGIN:VTIMEZONE
TZID:UTC
BEGIN:STANDARD
DTSTART:20230927T190000
TZNAME:UTC
TZOFFSETTO:+0000
TZOFFSETFROM:+0000
END:STANDARD
END:VTIMEZONE
END:VCALENDAR
