BEGIN:VCALENDAR
PRODID:-//eluceo/ical//2.0/EN
VERSION:2.0
CALSCALE:GREGORIAN
BEGIN:VEVENT
UID:event-1169
DTSTAMP:20260420T114714Z
SUMMARY:Supply Chain Speeddating
DESCRIPTION:Do you want to get a taste of some prominent companies operatin
 g in the field of Supply Chain Management? The Supply Chain Speeddating Ev
 ent may be exactly what you are looking for! The evening will commence wit
 h small pitches provided by every company\, whereafter the Speeddating sta
 rts. During these short speeddates\, you and a fellow student will meet th
 e companies one by one. This allows for engaging conversations in which yo
 u can get familiar with company operations or discuss job opportunities an
 d thesis internships. After the last round\, all students and company repr
 esentatives will come together for a network drink. Participating companie
 s: CEVA Logistics\, GXO\, NRG\, Solvint\, VIA Logistics\, ITrainee\, more
  to be announced. Location: De Philharmonie\, Tilburg (Oude Goirleseweg 16
 7) Date: April 28\, 2026 Time: 18:30 - 22:30 Fee: €3 for members. €5 f
 or non-members Be aware that this is a formal event\, the dress code is bu
 siness casual. Registration is first come\, first served!
DTSTART:20260428T163000Z
DTEND:20260428T203000Z
END:VEVENT
BEGIN:VTIMEZONE
TZID:UTC
BEGIN:STANDARD
DTSTART:20260428T163000
TZNAME:UTC
TZOFFSETTO:+0000
TZOFFSETFROM:+0000
END:STANDARD
END:VTIMEZONE
END:VCALENDAR
